{
 "currentVersion": 11.5,
 "serviceDescription": "Watermap Extent products generated by ASF from Sentinel-1 SAR imagery using the HydroSAR Hydro30 workflow.",
 "name": "ASF_S1/ASF_S1_WM",
 "description": "Watermap Extent products generated by ASF from Sentinel-1 SAR imagery using the HydroSAR Hydro30 workflow. Pixel values of 1 indicate surface water, 0 is used for non-water pixels. These products have been validated in the Hindu Kush Himalayan region, but not elsewhere. Use caution when viewing these products in unvalidated areas. Refer to https://ntrs.nasa.gov/citations/20210020271 for more information.",
 "extent": {
  "xmin": -1.93272541428E7,
  "ymin": 2537099.9245000035,
  "xmax": -7114854.1428,
  "ymax": 1.2133499924500003E7,
  "spatialReference": {
   "wkid": 102100,
   "latestWkid": 3857
  }
 },
 "initialExtent": {
  "xmin": -1.93272541428E7,
  "ymin": 2537099.9245000035,
  "xmax": -7114854.1428,
  "ymax": 1.2133499924500003E7,
  "spatialReference": {
   "wkid": 102100,
   "latestWkid": 3857
  }
 },
 "fullExtent": {
  "xmin": -1.93272541428E7,
  "ymin": 2537099.9245000035,
  "xmax": -7114854.1428,
  "ymax": 1.2133499924500003E7,
  "spatialReference": {
   "wkid": 102100,
   "latestWkid": 3857
  }
 },
 "sortableFields": "",
 "bandCount": 1,
 "pixelType": "U8",
 "minValues": [],
 "maxValues": [],
 "meanValues": [],
 "stdvValues": [],
 "serviceProperties": "ByAttribute<\/MosaicMethod>First<\/MosaicOperator>true<\/SortAscending><\/LockImageID>StartDate<\/TileOrderField>1/1/2050 12:00:00 AM<\/TileOrderBase>300.000000<\/AvgImageSpacingX>300.000000<\/AvgImageSpacingY>0.0<\/ViewPointX>0.0<\/ViewPointY>0.0<\/ViewPointDefShiftX>0.0<\/ViewPointDefShiftY>JPEG<\/CompressionMethod>80<\/CompressionQuality>0.010000<\/CompressionTolerance>Nearest<\/SamplingMethod><\/ImageServiceProperties><\/ImageServer>",
 "allowedFields": "Name,StartDate,EndDate,MinPS,MaxPS,LowPS,HighPS,Date,ZOrder,Dataset_ID,CenterX,CenterY,Tag,ProductName,GroupName,DownloadURL",
 "hasMultidimensions": false,
 "timeInfo": {
  "startTimeField": "StartDate",
  "endTimeField": "EndDate",
  "timeExtent": [
   1670856638000,
   1754611842000
  ],
  "timeReference": null
 },
 "pixelSizeX": 3,
 "pixelSizeY": 3,
 "meanPixelSize": 3,
 "datasetFormat": "AMD",
 "uncompressedSize": 13021675040000,
 "blockWidth": 2048,
 "blockHeight": 256,
 "compressionType": "None",
 "bandNames": [
  "Band_1"
 ],
 "allowCopy": true,
 "allowAnalysis": true,
 "itemAccess": false,
 "inspectionCapabilities": "",
 "minPixelSize": 0,
 "maxPixelSize": 0,
 "copyrightText": "Watermap Extent products processed by ASF DAAC HyP3 using GAMMA software. Contains modified Copernicus Sentinel data, processed by ESA.",
 "serviceDataType": "esriImageServiceDataTypeGeneric",
 "serviceSourceType": "esriImageServiceSourceTypeMosaicDataset",
 "objectIdField": "OBJECTID",
 "fields": [
  {
   "name": "OBJECTID",
   "type": "esriFieldTypeOID",
   "alias": "OBJECTID",
   "domain": null
  },
  {
   "name": "Shape",
   "type": "esriFieldTypeGeometry",
   "alias": "Shape",
   "domain": null
  },
  {
   "name": "Name",
   "type": "esriFieldTypeString",
   "alias": "Name",
   "domain": null,
   "length": 200
  },
  {
   "name": "MinPS",
   "type": "esriFieldTypeDouble",
   "alias": "MinPS",
   "domain": null
  },
  {
   "name": "MaxPS",
   "type": "esriFieldTypeDouble",
   "alias": "MaxPS",
   "domain": null
  },
  {
   "name": "LowPS",
   "type": "esriFieldTypeDouble",
   "alias": "LowPS",
   "domain": null
  },
  {
   "name": "HighPS",
   "type": "esriFieldTypeDouble",
   "alias": "HighPS",
   "domain": null
  },
  {
   "name": "Category",
   "type": "esriFieldTypeInteger",
   "alias": "Category",
   "domain": {
    "type": "codedValue",
    "name": "MosaicCatalogItemCategoryDomain",
    "description": "Catalog item categories.",
    "codedValues": [
     {
      "name": "Unknown",
      "code": 0
     },
     {
      "name": "Primary",
      "code": 1
     },
     {
      "name": "Overview",
      "code": 2
     },
     {
      "name": "Unprocessed Overview",
      "code": 3
     },
     {
      "name": "Partial Overview",
      "code": 4
     },
     {
      "name": "Inactive",
      "code": 5
     },
     {
      "name": "Uploaded",
      "code": 253
     },
     {
      "name": "Incomplete",
      "code": 254
     },
     {
      "name": "Custom",
      "code": 255
     }
    ],
    "mergePolicy": "esriMPTDefaultValue",
    "splitPolicy": "esriSPTDefaultValue"
   }
  },
  {
   "name": "Tag",
   "type": "esriFieldTypeString",
   "alias": "Tag",
   "domain": null,
   "length": 100
  },
  {
   "name": "GroupName",
   "type": "esriFieldTypeString",
   "alias": "GroupName",
   "domain": null,
   "length": 100
  },
  {
   "name": "ProductName",
   "type": "esriFieldTypeString",
   "alias": "ProductName",
   "domain": null,
   "length": 100
  },
  {
   "name": "CenterX",
   "type": "esriFieldTypeDouble",
   "alias": "CenterX",
   "domain": null
  },
  {
   "name": "CenterY",
   "type": "esriFieldTypeDouble",
   "alias": "CenterY",
   "domain": null
  },
  {
   "name": "ZOrder",
   "type": "esriFieldTypeInteger",
   "alias": "ZOrder",
   "domain": null
  },
  {
   "name": "StartDate",
   "type": "esriFieldTypeDate",
   "alias": "StartDate",
   "domain": null,
   "length": 8
  },
  {
   "name": "EndDate",
   "type": "esriFieldTypeDate",
   "alias": "EndDate",
   "domain": null,
   "length": 8
  },
  {
   "name": "DownloadURL",
   "type": "esriFieldTypeString",
   "alias": "DownloadURL",
   "domain": null,
   "length": 255
  }
 ],
 "capabilities": "Image,Metadata,Catalog,Mensuration",
 "defaultMosaicMethod": "ByAttribute",
 "allowedMosaicMethods": "ByAttribute,Center,NorthWest,Nadir,LockRaster,Seamline,None",
 "sortField": "StartDate",
 "sortValue": "1/1/2050 12:00:00 AM",
 "sortAscending": true,
 "mosaicOperator": "First",
 "maxDownloadSizeLimit": 2048,
 "defaultCompressionQuality": 80,
 "defaultResamplingMethod": "Nearest",
 "maxImageHeight": 5000,
 "maxImageWidth": 5000,
 "maxRecordCount": 2000,
 "maxDownloadImageCount": 50,
 "maxMosaicImageCount": 50,
 "allowRasterFunction": true,
 "rasterFunctionInfos": [
  {
   "name": "Watermap Extent Blue Only",
   "description": "Applies a blue color to cells with a pixel value of 1 (indicating water), and no color to 0 values.",
   "help": ""
  },
  {
   "name": "Watermap Extent White and Blue",
   "description": "Applies a blue color to cells with a pixel value of 1 (indicating water), and white to pixels with 0 values. ",
   "help": ""
  },
  {
   "name": "None",
   "description": "Make a Raster or Raster Dataset into a Function Raster Dataset.",
   "help": ""
  }
 ],
 "rasterTypeInfos": [
  {
   "name": "Raster Dataset",
   "description": "Supports all ArcGIS Raster Datasets",
   "help": ""
  }
 ],
 "mensurationCapabilities": "Basic",
 "hasHistograms": false,
 "hasColormap": false,
 "hasRasterAttributeTable": false,
 "minScale": 0,
 "maxScale": 0,
 "exportTilesAllowed": false,
 "supportsStatistics": true,
 "supportsAdvancedQueries": true,
 "editFieldsInfo": null,
 "ownershipBasedAccessControlForRasters": null,
 "allowComputeTiePoints": false,
 "useStandardizedQueries": true,
 "advancedQueryCapabilities": {
  "useStandardizedQueries": true,
  "supportsStatistics": true,
  "supportsOrderBy": true,
  "supportsDistinct": true,
  "supportsPagination": true
 },
 "spatialReference": {
  "wkid": 102100,
  "latestWkid": 3857
 }
}
